BEGIN:VCALENDAR
VERSION:2.0
PRODID:-//Freiwillige Feuerwehr Bachmehring - ECPv6.15.14//NONSGML v1.0//EN
CALSCALE:GREGORIAN
METHOD:PUBLISH
X-ORIGINAL-URL:https://feuerwehr-bachmehring.de
X-WR-CALDESC:Veranstaltungen für Freiwillige Feuerwehr Bachmehring
REFRESH-INTERVAL;VALUE=DURATION:PT1H
X-Robots-Tag:noindex
X-PUBLISHED-TTL:PT1H
BEGIN:VTIMEZONE
TZID:Europe/Berlin
BEGIN:DAYLIGHT
TZOFFSETFROM:+0100
TZOFFSETTO:+0200
TZNAME:CEST
DTSTART:20250330T010000
END:DAYLIGHT
BEGIN:STANDARD
TZOFFSETFROM:+0200
TZOFFSETTO:+0100
TZNAME:CET
DTSTART:20251026T010000
END:STANDARD
BEGIN:DAYLIGHT
TZOFFSETFROM:+0100
TZOFFSETTO:+0200
TZNAME:CEST
DTSTART:20260329T010000
END:DAYLIGHT
BEGIN:STANDARD
TZOFFSETFROM:+0200
TZOFFSETTO:+0100
TZNAME:CET
DTSTART:20261025T010000
END:STANDARD
BEGIN:DAYLIGHT
TZOFFSETFROM:+0100
TZOFFSETTO:+0200
TZNAME:CEST
DTSTART:20270328T010000
END:DAYLIGHT
BEGIN:STANDARD
TZOFFSETFROM:+0200
TZOFFSETTO:+0100
TZNAME:CET
DTSTART:20271031T010000
END:STANDARD
END:VTIMEZONE
BEGIN:VEVENT
DTSTART;TZID=Europe/Berlin:20260113T193000
DTEND;TZID=Europe/Berlin:20260113T213000
DTSTAMP:20260421T132410
CREATED:20260112T082129Z
LAST-MODIFIED:20260113T053527Z
UID:4497-1768332600-1768339800@feuerwehr-bachmehring.de
SUMMARY:Vorstandssitzung
DESCRIPTION:
URL:https://feuerwehr-bachmehring.de/event/vorstandssitzung/
LOCATION:Feuerwehrgerätehaus\, Rosenheimer Str. 12\, Eiselfing\, 83549
CATEGORIES:Feuerwehrverein
ORGANIZER;CN="Vereinsvorstand":MAILTO:tobias.stecher@feuerwehr-bachmehring.de
END:VEVENT
BEGIN:VEVENT
DTSTART;TZID=Europe/Berlin:20260116T190000
DTEND;TZID=Europe/Berlin:20260116T210000
DTSTAMP:20260421T132410
CREATED:20260113T053836Z
LAST-MODIFIED:20260113T053836Z
UID:4513-1768590000-1768597200@feuerwehr-bachmehring.de
SUMMARY:Übungsabend Jugendfeuerwehr
DESCRIPTION:
URL:https://feuerwehr-bachmehring.de/event/uebungsabend-jugendfeuerwehr/
LOCATION:Feuerwehrgerätehaus\, Rosenheimer Str. 12\, Eiselfing\, 83549
CATEGORIES:Jugendfeuerwehr
ORGANIZER;CN="Jugendfeuerwehr":MAILTO:jugendwart@feuerwehr-bachmehring.de
END:VEVENT
BEGIN:VEVENT
DTSTART;TZID=Europe/Berlin:20260123T190000
DTEND;TZID=Europe/Berlin:20260123T210000
DTSTAMP:20260421T132410
CREATED:20260113T053929Z
LAST-MODIFIED:20260113T053929Z
UID:4515-1769194800-1769202000@feuerwehr-bachmehring.de
SUMMARY:Übungsabend Jugendfeuerwehr
DESCRIPTION:
URL:https://feuerwehr-bachmehring.de/event/uebungsabend-jugendfeuerwehr-2/
LOCATION:Feuerwehrgerätehaus\, Rosenheimer Str. 12\, Eiselfing\, 83549
CATEGORIES:Jugendfeuerwehr
ORGANIZER;CN="Jugendfeuerwehr":MAILTO:jugendwart@feuerwehr-bachmehring.de
END:VEVENT
END:VCALENDAR