BEGIN:VCALENDAR
VERSION:2.0
PRODID:-//Freiwillige Feuerwehr Bachmehring - ECPv6.15.14//NONSGML v1.0//EN
CALSCALE:GREGORIAN
METHOD:PUBLISH
X-ORIGINAL-URL:https://feuerwehr-bachmehring.de
X-WR-CALDESC:Veranstaltungen für Freiwillige Feuerwehr Bachmehring
REFRESH-INTERVAL;VALUE=DURATION:PT1H
X-Robots-Tag:noindex
X-PUBLISHED-TTL:PT1H
BEGIN:VTIMEZONE
TZID:Europe/Berlin
BEGIN:DAYLIGHT
TZOFFSETFROM:+0100
TZOFFSETTO:+0200
TZNAME:CEST
DTSTART:20250330T010000
END:DAYLIGHT
BEGIN:STANDARD
TZOFFSETFROM:+0200
TZOFFSETTO:+0100
TZNAME:CET
DTSTART:20251026T010000
END:STANDARD
BEGIN:DAYLIGHT
TZOFFSETFROM:+0100
TZOFFSETTO:+0200
TZNAME:CEST
DTSTART:20260329T010000
END:DAYLIGHT
BEGIN:STANDARD
TZOFFSETFROM:+0200
TZOFFSETTO:+0100
TZNAME:CET
DTSTART:20261025T010000
END:STANDARD
BEGIN:DAYLIGHT
TZOFFSETFROM:+0100
TZOFFSETTO:+0200
TZNAME:CEST
DTSTART:20270328T010000
END:DAYLIGHT
BEGIN:STANDARD
TZOFFSETFROM:+0200
TZOFFSETTO:+0100
TZNAME:CET
DTSTART:20271031T010000
END:STANDARD
END:VTIMEZONE
BEGIN:VEVENT
DTSTART;TZID=Europe/Berlin:20260422T183000
DTEND;TZID=Europe/Berlin:20260422T210000
DTSTAMP:20260421T101803
CREATED:20260225T063201Z
LAST-MODIFIED:20260225T063201Z
UID:4572-1776882600-1776891600@feuerwehr-bachmehring.de
SUMMARY:Atemschutzbelastungsübung
DESCRIPTION:Teilnehmer gemäß Einteilung durch Leiter Atemschutz.
URL:https://feuerwehr-bachmehring.de/event/atemschutzbelastungsuebung-3/
LOCATION:Feuerwehrgerätehaus\, Rosenheimer Str. 12\, Eiselfing\, 83549
CATEGORIES:Atemschutz
ORGANIZER;CN="Aktive Mannschaft":MAILTO:kommandant@feuerwehr-bachmehring.de
END:VEVENT
BEGIN:VEVENT
DTSTART;TZID=Europe/Berlin:20260428T193000
DTEND;TZID=Europe/Berlin:20260428T210000
DTSTAMP:20260421T101803
CREATED:20260225T062811Z
LAST-MODIFIED:20260225T062811Z
UID:4568-1777404600-1777410000@feuerwehr-bachmehring.de
SUMMARY:Bewegungsfahrten Einsatzfahrzeuge
DESCRIPTION:Durchsicht und Bewegungsfahrten der Einsatzfahrzeuge im 2. Quartal. Maschninsten und Fahrer entsprechend der Einteilung.
URL:https://feuerwehr-bachmehring.de/event/bewegungsfahrten-einsatzfahrzeuge/
LOCATION:Feuerwehrgerätehaus\, Rosenheimer Str. 12\, Eiselfing\, 83549
CATEGORIES:Maschinisten-Technik
ORGANIZER;CN="Aktive Mannschaft":MAILTO:kommandant@feuerwehr-bachmehring.de
END:VEVENT
BEGIN:VEVENT
DTSTART;TZID=Europe/Berlin:20260430T190000
DTEND;TZID=Europe/Berlin:20260430T220000
DTSTAMP:20260421T101803
CREATED:20260225T063345Z
LAST-MODIFIED:20260421T051038Z
UID:4574-1777575600-1777586400@feuerwehr-bachmehring.de
SUMMARY:Übung Absturzsicherung
DESCRIPTION:Teilnehmerkreis alle Personen mit der Zusatzausbildung Absturzsicherung.
URL:https://feuerwehr-bachmehring.de/event/uebung-absturzsicherung/
LOCATION:Feuerwehrgerätehaus\, Rosenheimer Str. 12\, Eiselfing\, 83549
CATEGORIES:Absturzsicherung
ORGANIZER;CN="Aktive Mannschaft":MAILTO:kommandant@feuerwehr-bachmehring.de
END:VEVENT
BEGIN:VEVENT
DTSTART;VALUE=DATE:20260510
DTEND;VALUE=DATE:20260511
DTSTAMP:20260421T101803
CREATED:20260325T075717Z
LAST-MODIFIED:20260325T075717Z
UID:4651-1778371200-1778457599@feuerwehr-bachmehring.de
SUMMARY:Festsonntag Freiwillige Feuerwehr Aham
DESCRIPTION:
URL:https://feuerwehr-bachmehring.de/event/festsonntag-freiwillige-feuerwehr-aham/
CATEGORIES:Feuerwehrverein
END:VEVENT
BEGIN:VEVENT
DTSTART;TZID=Europe/Berlin:20260512T193000
DTEND;TZID=Europe/Berlin:20260512T220000
DTSTAMP:20260421T101803
CREATED:20260325T075951Z
LAST-MODIFIED:20260325T075951Z
UID:4653-1778614200-1778623200@feuerwehr-bachmehring.de
SUMMARY:Allgemeinübung
DESCRIPTION:Übungsthemen: \n\nTHL VU PKW\nBrandbekämpfung
URL:https://feuerwehr-bachmehring.de/event/allgemeinuebung-4/
LOCATION:Feuerwehrgerätehaus\, Rosenheimer Str. 12\, Eiselfing\, 83549
CATEGORIES:Aktive Mannschaft
ORGANIZER;CN="Aktive Mannschaft":MAILTO:kommandant@feuerwehr-bachmehring.de
END:VEVENT
BEGIN:VEVENT
DTSTART;TZID=Europe/Berlin:20260603T080000
DTEND;TZID=Europe/Berlin:20260617T170000
DTSTAMP:20260421T101803
CREATED:20260226T104604Z
LAST-MODIFIED:20260227T075405Z
UID:4591-1780473600-1781715600@feuerwehr-bachmehring.de
SUMMARY:Aufbau Fest ´26
DESCRIPTION:
URL:https://feuerwehr-bachmehring.de/event/aufbau-fest-26/
LOCATION:Raab Halle Hafenham\, Hafenham 6\, Eiselfing\, 83549
CATEGORIES:Feuerwehrverein
ORGANIZER;CN="Feuerwehrverein":MAILTO:tobias.stecher@feuerwehr-bachmehring.de
END:VEVENT
BEGIN:VEVENT
DTSTART;TZID=Europe/Berlin:20260623T193000
DTEND;TZID=Europe/Berlin:20260623T210000
DTSTAMP:20260421T101803
CREATED:20260325T080216Z
LAST-MODIFIED:20260325T080216Z
UID:4655-1782243000-1782248400@feuerwehr-bachmehring.de
SUMMARY:Gruppenführerbesprechung
DESCRIPTION:Planung Übungsthemen usw.
URL:https://feuerwehr-bachmehring.de/event/gruppenfuehrerbesprechung-2/
LOCATION:Feuerwehrgerätehaus\, Rosenheimer Str. 12\, Eiselfing\, 83549
CATEGORIES:Führung
END:VEVENT
BEGIN:VEVENT
DTSTART;VALUE=DATE:20260628
DTEND;VALUE=DATE:20260629
DTSTAMP:20260421T101803
CREATED:20260421T051248Z
LAST-MODIFIED:20260421T051248Z
UID:4685-1782604800-1782691199@feuerwehr-bachmehring.de
SUMMARY:Festsonntag Freiwillige Feuerwehr Evenhausen
DESCRIPTION:
URL:https://feuerwehr-bachmehring.de/event/festsonntag-freiwillige-feuerwehr-evenhausen/
CATEGORIES:Feuerwehrverein
END:VEVENT
BEGIN:VEVENT
DTSTART;TZID=Europe/Berlin:20260707T193000
DTEND;TZID=Europe/Berlin:20260707T210000
DTSTAMP:20260421T101803
CREATED:20260421T051416Z
LAST-MODIFIED:20260421T051416Z
UID:4687-1783452600-1783458000@feuerwehr-bachmehring.de
SUMMARY:Vorstandssitzung
DESCRIPTION:
URL:https://feuerwehr-bachmehring.de/event/vorstandssitzung-3/
LOCATION:Feuerwehrgerätehaus\, Rosenheimer Str. 12\, Eiselfing\, 83549
CATEGORIES:Feuerwehrverein
ORGANIZER;CN="Vereinsvorstand":MAILTO:tobias.stecher@feuerwehr-bachmehring.de
END:VEVENT
BEGIN:VEVENT
DTSTART;TZID=Europe/Berlin:20260714T193000
DTEND;TZID=Europe/Berlin:20260714T220000
DTSTAMP:20260421T101803
CREATED:20260421T051538Z
LAST-MODIFIED:20260421T051538Z
UID:4689-1784057400-1784066400@feuerwehr-bachmehring.de
SUMMARY:Allgemeinübung
DESCRIPTION:Übungsthemen: \n\nTHL VU PKW\nBrandbekämpfung
URL:https://feuerwehr-bachmehring.de/event/allgemeinuebung-5/
LOCATION:Feuerwehrgerätehaus\, Rosenheimer Str. 12\, Eiselfing\, 83549
CATEGORIES:Aktive Mannschaft
ORGANIZER;CN="Aktive Mannschaft":MAILTO:kommandant@feuerwehr-bachmehring.de
END:VEVENT
BEGIN:VEVENT
DTSTART;VALUE=DATE:20260725
DTEND;VALUE=DATE:20260726
DTSTAMP:20260421T101803
CREATED:20260421T051653Z
LAST-MODIFIED:20260421T051653Z
UID:4691-1784937600-1785023999@feuerwehr-bachmehring.de
SUMMARY:Kreisjugendfeuerwehrtag
DESCRIPTION:
URL:https://feuerwehr-bachmehring.de/event/kreisjugendfeuerwehrtag/
CATEGORIES:Jugendfeuerwehr
END:VEVENT
BEGIN:VEVENT
DTSTART;TZID=Europe/Berlin:20260728T193000
DTEND;TZID=Europe/Berlin:20260728T210000
DTSTAMP:20260421T101803
CREATED:20260421T051825Z
LAST-MODIFIED:20260421T051825Z
UID:4693-1785267000-1785272400@feuerwehr-bachmehring.de
SUMMARY:Bewegungsfahrten Einsatzfahrzeuge
DESCRIPTION:Durchsicht und Bewegungsfahrten der Einsatzfahrzeuge im 3. Quartal. Maschninsten und Fahrer entsprechend der Einteilung.
URL:https://feuerwehr-bachmehring.de/event/bewegungsfahrten-einsatzfahrzeuge-2/
LOCATION:Feuerwehrgerätehaus\, Rosenheimer Str. 12\, Eiselfing\, 83549
CATEGORIES:Maschinisten-Technik
END:VEVENT
BEGIN:VEVENT
DTSTART;TZID=Europe/Berlin:20260811T193000
DTEND;TZID=Europe/Berlin:20260811T220000
DTSTAMP:20260421T101803
CREATED:20260421T051908Z
LAST-MODIFIED:20260421T051908Z
UID:4695-1786476600-1786485600@feuerwehr-bachmehring.de
SUMMARY:Allgemeinübung
DESCRIPTION:
URL:https://feuerwehr-bachmehring.de/event/allgemeinuebung-6/
LOCATION:Feuerwehrgerätehaus\, Rosenheimer Str. 12\, Eiselfing\, 83549
CATEGORIES:Aktive Mannschaft
ORGANIZER;CN="Aktive Mannschaft":MAILTO:kommandant@feuerwehr-bachmehring.de
END:VEVENT
END:VCALENDAR